Workbook

Sheet Overall Standings
A1: Varsity Team Championship
A2: 2026 - 2027
A3: Team | B3: Benalto | C3: Delisle | D3: NLC | E3: LLC Fall | F3: OC Fall | G3: SAIRT Fall | H3: OC Spring | I3: LLC Spring | J3: SAIRT Spring | K3: Total
A4: LLC | B4: =Benalto!F23 -> 1360 | C4: =Delisle!F23 -> 1640 | D4: =NLC!F23 -> 1370 | E4: ='LLC Fall'!F23 -> 0 | F4: ='OC Fall'!F23 -> 0 | G4: ='SAIRT Fall'!F23 -> 0 | H4: ='OC Spring'!F23 -> 0 | I4: ='LLC Spring'!F23 -> 0 | J4: ='SAIRT Spring'!F23 -> 0 | K4: =SUM(B4:J4) -> 4370
A5: OC | B5: =Benalto!F13 -> 700 | C5: =Delisle!F13 -> 870 | D5: =NLC!F13 -> 1380 | E5: ='LLC Fall'!F13 -> 0 | F5: ='OC Fall'!F13 -> 0 | G5: ='SAIRT Fall'!F13 -> 0 | H5: ='OC Spring'!F13 -> 0 | I5: ='LLC Spring'!F13 -> 0 | J5: ='SAIRT Spring'!F13 -> 0 | K5: =SUM(B5:J5) -> 2950
A6: NLC | B6: =Benalto!F52 -> 1040 | C6: =Delisle!F53 -> 210 | D6: =NLC!F53 -> 1390 | E6: ='LLC Fall'!F53 -> 0 | F6: ='OC Fall'!F53 -> 0 | G6: ='SAIRT Fall'!F53 -> 0 | H6: ='OC Spring'!F53 -> 0 | I6: ='LLC Spring'!F53 -> 0 | J6: ='SAIRT Spring'!F53 -> 0 | K6: =SUM(B6:J6) -> 2640
A7: UofS | B7: =Benalto!F72 -> 705 | C7: =Delisle!F73 -> 920 | D7: =NLC!F73 -> 220 | E7: ='LLC Fall'!F73 -> 0 | F7: ='OC Fall'!F73 -> 0 | G7: ='SAIRT Fall'!F73 -> 0 | H7: ='OC Spring'!F73 -> 0 | I7: ='LLC Spring'!F73 -> 0 | J7: ='SAIRT Spring'!F73 -> 0 | K7: =SUM(B7:J7) -> 1845
A8: SAIRT | B8: =Benalto!F62 -> 410 | C8: =Delisle!F63 -> 330 | D8: =NLC!F63 -> 515 | E8: ='LLC Fall'!F63 -> 0 | F8: ='OC Fall'!F63 -> 0 | G8: ='SAIRT Fall'!F63 -> 0 | H8: ='OC Spring'!F63 -> 0 | I8: ='LLC Spring'!F63 -> 0 | J8: ='SAIRT Spring'!F63 -> 0 | K8: =SUM(B8:J8) -> 1255
A9: RDP | B9: =Benalto!F42 -> 535 | C9: =Delisle!F43 -> 350 | D9: =NLC!F43 -> 165 | E9: ='LLC Fall'!F43 -> 0 | F9: ='OC Fall'!F43 -> 0 | G9: ='SAIRT Fall'!F43 -> 0 | H9: ='OC Spring'!F43 -> 0 | I9: ='LLC Spring'!F43 -> 0 | J9: ='SAIRT Spring'!F43 -> 0 | K9: =SUM(B9:J9) -> 1050
A10: CA | B10: =Benalto!F32 -> 350 | C10: =Delisle!F33 -> 0 | D10: =NLC!F33 -> 275 | E10: ='LLC Fall'!F33 -> 0 | F10: ='OC Fall'!F33 -> 0 | G10: ='SAIRT Fall'!F33 -> 0 | H10: ='OC Spring'!F33 -> 0 | I10: ='LLC Spring'!F33 -> 0 | J10: ='SAIRT Spring'!F33 -> 0 | K10: =SUM(B10:J10) -> 625
A12: ** Note permit riders are NOT included in point calculations

Sheet Benalto
A1: Varsity Teams
A2: Benalto
B3: Name | C3: Events | D3: Points Saturday | E3: Points Sunday
A4: Olds College
B5: Emilee Langford | E5: 110
B6: Morgan Dingreville
B7: Tessa Morrison
B8: Camryn Elder | D8: 40
B9: Cole Evans | D9: 60 | E9: 90
B10: Cooper Seehof | D10: 200 | E10: 170
B11: Jet Verschuur | E11: 30
B12: Kayl Hankins
E13: OC Total Points | F13: =SUM(D5:D12)+SUM(E5:E12) -> 700
A14: Lakeland College
B15: Avery Sardoff | D15: 100 | E15: 30
B16: Lily Wilson | D16: 170 | E16: 50
B17: Georgia Hale | D17: 150 | E17: 130
B18: Haylie Ost | E18: 50
B19: Weston Packet | D19: 80 | E19: 100
B20: Derek Ivanics | D20: 90
B21: Colton Fenske | D21: 100 | E21: 170
B22: Coulson Stauffer | E22: 140
E23: LLC Total Points | F23: =SUM(D15:D22)+SUM(E15:E22) -> 1360
A24: Central Alberta
B26: Drayder Pearson | D26: 80
B27: Hannah Leitch | D27: 70 | E27: 140
B28: Lacey Terpsma | D28: 60
E32: CA Total Points | F32: =SUM(D25:D31)+SUM(E25:E31) -> 350
A33: RDP
B34: Aidyn Thomas | D34: 50 | E34: 75
B35: Brieanna Nyal
B36: Carley Dezotell | D36: 140
B37: Elyse Terpsma | D37: 20
B38: Julianna Barker
B39: Mattie Jensen-Batty | D39: 50 | E39: 50
B40: Maya Willows | D40: 50 | E40: 100
E42: RDP Total Points | F42: =SUM(D34:D41)+SUM(E34:E41) -> 535
A43: NLC
B44: Julia Doble
B45: Shelby Corr | D45: 20 | E45: 30
...

Sheet Delisle
A1: Varsity Teams
A2: Delisle Fall Rodeo
B3: Name | C3: Events | D3: Points Saturday | E3: Points Sunday
A4: Olds College
B5: Emilee Langford | D5: 130 | E5: 80
B6: Morgan Dingreville | D6: 110
B7: Reese Dragan | D7: 65 | E7: 60
B8: Danielle Sheehan | D8: 110 | E8: 65
B9: Kacey Huffman
B10: Cooper Seelhof | D10: 70 | E10: 80
B11: Jett Verschuur
B12: James Davidson | D12: 100
E13: OC Total Points | F13: =SUM(D5:D12)+SUM(E5:E12) -> 870
A14: Lakeland College
B15: Sarah Beierbach | D15: 90
B16: Avery Sardoff | D16: 100 | E16: 160
B17: Georgia Hale | D17: 220 | E17: 80
B18: Alyssa Maffenbeier | D18: 170 | E18: 100
B19: Weston Packet | D19: 190 | E19: 170
B20: Derek Ivanics | D20: 80 | E20: 180
B21: Colton Fenske | E21: 100
B22: Coulson Stauffer
E23: LLC Total Points | F23: =SUM(D15:D22)+SUM(E15:E22) -> 1640
A24: Central Alberta
B25: Lacey Terpsma
B26: Tyson LeBlanc
E33: CA Total Points | F33: =SUM(D25:D32)+SUM(E25:E32) -> 0
A34: RDP
B35: Aidyn Thomas
B36: Mattie Jensen-Batty
B37: Elyse Terpsma | D37: 70
B38: Carley Dezotell | D38: 180 | E38: 100
B39: Julianna Barker
B40: Maya Willows
E43: RDP Total Points | F43: =SUM(D35:D42)+SUM(E35:E42) -> 350
A44: NLC
B45: Arlee Newsham | D45: 50
B46: Blake Greenlees | D46: 20 | E46: 70
B47: Ella Falkenberg
B48: Jaqueline Edwards
...

Sheet NLC
A1: Varsity Teams
A2: NLC Fall Rodeo
B3: Name | C3: Events | D3: Points Saturday | E3: Points Sunday
A4: Olds College
B5: Emilee Langford | D5: 100 | E5: 130
B6: Camryn Elder | E6: 100
B7: Reese Dragan | D7: 115 | E7: 95
B8: Danielle Sheehan | D8: 90 | E8: 80
B9: Cole Evans | D9: 40 | E9: 130
B10: Cooper Seelhof | D10: 50 | E10: 60
B11: Kayl Hankins | D11: 100 | E11: 100
B12: James Davidson | D12: 100 | E12: 90
E13: OC Total Points | F13: =SUM(D5:D12)+SUM(E5:E12) -> 1380
A14: Lakeland College
B15: Weston Packet | D15: 190 | E15: 80
B16: Colton Fenske | D16: 90 | E16: 120
B17: Kaleb kelly
B18: Blake Neilson | D18: 100
B19: Sarah Beierbach | D19: 80
B20: Alyssa Maffenbeier | D20: 100 | E20: 100
B21: Georgia Hale | D21: 140
B22: Avery Sardoff | D22: 260 | E22: 110
E23: LLC Total Points | F23: =SUM(D15:D22)+SUM(E15:E22) -> 1370
A24: Central Alberta
B25: Brayden Smith
B26: Drayder Pearson | D26: 90
B27: Hanna Leitch | D27: 75 | E27: 110
B28: Lacey Terpsma
E33: CA Total Points | F33: =SUM(D25:D32)+SUM(E25:E32) -> 275
A34: RDP
B35: Aidyn Thomas | D35: 15
B36: Carley Dezotell | E36: 100
B37: Elyse Terpsma
B38: Julianna Barker
B39: Mattie Jensen-Batty | D39: 20
B40: Maya Willows | E40: 30
E43: RDP Total Points | F43: =SUM(D35:D42)+SUM(E35:E42) -> 165
A44: NLC
B45: Ryan Collett | D45: 140 | E45: 100
B46: landon Dowling | D46: 240 | E46: 140
...

Sheet LLC Fall
A1: Varsity Teams
A2: LLC Fall Rodeo
B3: Name | C3: Events | D3: Points Saturday | E3: Points Sunday
A4: Olds College
E13: OC Total Points | F13: =SUM(D5:D12)+SUM(E5:E12) -> 0
A14: Lakeland College
E23: LLC Total Points | F23: =SUM(D15:D22)+SUM(E15:E22) -> 0
A24: Central Alberta
E33: CA Total Points | F33: =SUM(D25:D32)+SUM(E25:E32) -> 0
A34: RDP
E43: RDP Total Points | F43: =SUM(D35:D42)+SUM(E35:E42) -> 0
A44: NLC
E53: NLC Total Points | F53: =SUM(D45:D52)+SUM(E45:E52) -> 0
A54: SAIRT
E63: SAIRT Total Points | F63: =SUM(D55:D62)+SUM(E55:E62) -> 0
A64: UofS
E73: UofS Total Points | F73: =SUM(D65:D72)+SUM(E65:E72) -> 0

Sheet OC Fall
A1: Varsity Teams
A2: OC Fall Rodeo
B3: Name | C3: Events | D3: Points Saturday | E3: Points Sunday
A4: Olds College
E13: OC Total Points | F13: =SUM(D5:D12)+SUM(E5:E12) -> 0
A14: Lakeland College
E23: LLC Total Points | F23: =SUM(D15:D22)+SUM(E15:E22) -> 0
A24: Central Alberta
E33: CA Total Points | F33: =SUM(D25:D32)+SUM(E25:E32) -> 0
A34: RDP
E43: RDP Total Points | F43: =SUM(D35:D42)+SUM(E35:E42) -> 0
A44: NLC
E53: NLC Total Points | F53: =SUM(D45:D52)+SUM(E45:E52) -> 0
A54: SAIRT
E63: SAIRT Total Points | F63: =SUM(D55:D62)+SUM(E55:E62) -> 0
A64: UofS
E73: UofS Total Points | F73: =SUM(D65:D72)+SUM(E65:E72) -> 0

Sheet SAIRT Fall
A1: Varsity Teams
A2: SAIRT Fall Rodeo
B3: Name | C3: Events | D3: Points Saturday | E3: Points Sunday
A4: Olds College
E13: OC Total Points | F13: =SUM(D5:D12)+SUM(E5:E12) -> 0
A14: Lakeland College
E23: LLC Total Points | F23: =SUM(D15:D22)+SUM(E15:E22) -> 0
A24: Central Alberta
E33: CA Total Points | F33: =SUM(D25:D32)+SUM(E25:E32) -> 0
A34: RDP
E43: RDP Total Points | F43: =SUM(D35:D42)+SUM(E35:E42) -> 0
A44: NLC
E53: NLC Total Points | F53: =SUM(D45:D52)+SUM(E45:E52) -> 0
A54: SAIRT
E63: SAIRT Total Points | F63: =SUM(D55:D62)+SUM(E55:E62) -> 0
A64: UofS
E73: UofS Total Points | F73: =SUM(D65:D72)+SUM(E65:E72) -> 0

Sheet OC Spring
A1: Varsity Teams
A2: Olds Spring Rodeo
B3: Name | C3: Events | D3: Points Saturday | E3: Points Sunday
A4: Olds College
E13: OC Total Points | F13: =SUM(D5:D12)+SUM(E5:E12) -> 0
A14: Lakeland College
E23: LLC Total Points | F23: =SUM(D15:D22)+SUM(E15:E22) -> 0
A24: Central Alberta
E33: CA Total Points | F33: =SUM(D25:D32)+SUM(E25:E32) -> 0
A34: RDP
E43: RDP Total Points | F43: =SUM(D35:D42)+SUM(E35:E42) -> 0
A44: NLC
E53: NLC Total Points | F53: =SUM(D45:D52)+SUM(E45:E52) -> 0
A54: SAIRT
E63: SAIRT Total Points | F63: =SUM(D55:D62)+SUM(E55:E62) -> 0
A64: UofS
E73: UofS Total Points | F73: =SUM(D65:D72)+SUM(E65:E72) -> 0

Sheet LLC Spring
A1: Varsity Teams
A2: LLC Spring Rodeo
B3: Name | C3: Events | D3: Points Saturday | E3: Points Sunday
A4: Olds College
E13: OC Total Points | F13: =SUM(D5:D12)+SUM(E5:E12) -> 0
A14: Lakeland College
E23: LLC Total Points | F23: =SUM(D15:D22)+SUM(E15:E22) -> 0
A24: Central Alberta
E33: CA Total Points | F33: =SUM(D25:D32)+SUM(E25:E32) -> 0
A34: RDP
E43: RDP Total Points | F43: =SUM(D35:D42)+SUM(E35:E42) -> 0
A44: NLC
E53: NLC Total Points | F53: =SUM(D45:D52)+SUM(E45:E52) -> 0
A54: SAIRT
E63: SAIRT Total Points | F63: =SUM(D55:D62)+SUM(E55:E62) -> 0
A64: UofS
E73: UofS Total Points | F73: =SUM(D65:D72)+SUM(E65:E72) -> 0

Sheet SAIRT Spring
A1: Varsity Teams
A2: SAIRT Spring Rodeo
B3: Name | C3: Events | D3: Points Saturday | E3: Points Sunday
A4: Olds College
E13: OC Total Points | F13: =SUM(D5:D12)+SUM(E5:E12) -> 0
A14: Lakeland College
E23: LLC Total Points | F23: =SUM(D15:D22)+SUM(E15:E22) -> 0
A24: Central Alberta
E33: CA Total Points | F33: =SUM(D25:D32)+SUM(E25:E32) -> 0
A34: RDP
E43: RDP Total Points | F43: =SUM(D35:D42)+SUM(E35:E42) -> 0
A44: NLC
E53: NLC Total Points | F53: =SUM(D45:D52)+SUM(E45:E52) -> 0
A54: SAIRT
E63: SAIRT Total Points | F63: =SUM(D55:D62)+SUM(E55:E62) -> 0
A64: UofS
E73: UofS Total Points | F73: =SUM(D65:D72)+SUM(E65:E72) -> 0
